BEGIN:VCALENDAR
VERSION:2.0
METHOD:PUBLISH
PRODID:-//Agenda.ad//NONSGML v1.0//EN
BEGIN:VEVENT
CLASS:PUBLIC
UID:3e4eb32efe0dbc2b58a2a3a7a0a14e22@agenda.ad
DTSTAMP:20260424T082216Z
DTSTART:20191206T230000Z
DTEND:20191206T230000Z
SUMMARY:<p>DISSABTES D&rsquo;AIGUA &middot;&nbsp;NADAL BLANC. Taller de reciclatge creatiu</p>
DESCRIPTION:\n\nMés informació\nhttps://www.agenda.ad/activitat/escald
 es-engordany/activitats-infantils/dissabtes-daigua- nadal-b
 lanc-taller-de-reciclatge-creatiu\n\n\nOrganitza\nComú d'Es
 caldes-Engordany
LOCATION:Centre d'Art d'Escaldes-Engordany
SEQUENCE:0
TRANSP:OPAQUE
X-ALT-DESC;FMTTYPE=text/html:<!DOCTYPE HTML PUBLIC "-//W3C//DTD HTML 3.2//EN"><HTML><HEAD
 ><TITLE></TITLE></HEAD><BODY><FONT FACE="Arial" SIZE=2><br/>
 <br/><b>Més informació</b><br/><a href="https://www.agenda
 .ad/activitat/escaldes-engordany/activitats-infantils/dissab
 tes-daigua- nadal-blanc-taller-de-reciclatge-creatiu">https
 ://www.agenda.ad/activitat/escaldes-engordany/activitats-inf
 antils/dissabtes-daigua- nadal-blanc-taller-de-reciclatge-c
 reatiu</a><br/><br/><br/><b>Organitza</b><br/>Comú d'Escald
 es-Engordany</FONT></BODY></HTML>
END:VEVENT
END:VCALENDAR